BEGIN:VCALENDAR
VERSION:2.0
PRODID:-//Twyning Parish Council//Meeting Calendar//EN
CALSCALE:GREGORIAN
METHOD:PUBLISH
BEGIN:VEVENT
UID:70954-20251117@twyningparishcouncil.gov.uk
DTSTAMP:20260421T091051Z
DTSTART;VALUE=DATE:20251117
DTEND;VALUE=DATE:20251118
SUMMARY:Council Meeting &#8211\\; Monday 17th November 2025
DESCRIPTION:Full Council Meeting\nView details: https://twyningparishcouncil.gov.uk/meetings/council-meeting-monday-20th-october-2025/
URL:https://twyningparishcouncil.gov.uk/meetings/council-meeting-monday-20th-october-2025/
END:VEVENT
END:VCALENDAR
