BEGIN:VCALENDAR
VERSION:2.0
PRODID:-//Twyning Parish Council//Meeting Calendar//EN
CALSCALE:GREGORIAN
METHOD:PUBLISH
BEGIN:VEVENT
UID:70959-20260316@twyningparishcouncil.gov.uk
DTSTAMP:20260421T090313Z
DTSTART;VALUE=DATE:20260316
DTEND;VALUE=DATE:20260317
SUMMARY:Council Meeting &#8211\\; Monday 16th March 2026
DESCRIPTION:Full Council Meeting\nView details: https://twyningparishcouncil.gov.uk/meetings/council-meeting-monday-16th-march-2026/
URL:https://twyningparishcouncil.gov.uk/meetings/council-meeting-monday-16th-march-2026/
END:VEVENT
END:VCALENDAR
