BEGIN:VCALENDAR
VERSION:2.0
PRODID:-//Twyning Parish Council//Meeting Calendar//EN
CALSCALE:GREGORIAN
METHOD:PUBLISH
BEGIN:VEVENT
UID:70960-20260420@twyningparishcouncil.gov.uk
DTSTAMP:20260421T090711Z
DTSTART;VALUE=DATE:20260420
DTEND;VALUE=DATE:20260421
SUMMARY:Council Meeting &#8211\\; Monday 20th April 2026
DESCRIPTION:Full Council Meeting\nView details: https://twyningparishcouncil.gov.uk/meetings/council-meeting-monday-20th-april-2026/
URL:https://twyningparishcouncil.gov.uk/meetings/council-meeting-monday-20th-april-2026/
END:VEVENT
END:VCALENDAR
