BEGIN:VCALENDAR
VERSION:2.0
PRODID:-//Twyning Parish Council//Meeting Calendar//EN
CALSCALE:GREGORIAN
METHOD:PUBLISH
BEGIN:VEVENT
UID:70961-20260518@twyningparishcouncil.gov.uk
DTSTAMP:20260421T082035Z
DTSTART;VALUE=DATE:20260518
DTEND;VALUE=DATE:20260519
SUMMARY:Council Meeting &#8211\\; Monday 18th June 2026
DESCRIPTION:Full Council Meeting\nView details: https://twyningparishcouncil.gov.uk/meetings/council-meeting-monday-18th-june-2026/
URL:https://twyningparishcouncil.gov.uk/meetings/council-meeting-monday-18th-june-2026/
END:VEVENT
END:VCALENDAR
